BEGIN:VCALENDAR
VERSION:2.0
PRODID:-//Courtship Vs. Dating with Rickey E. Macklin - ECPv6.15.15//NONSGML v1.0//EN
CALSCALE:GREGORIAN
METHOD:PUBLISH
X-ORIGINAL-URL:https://courtshipvsdating.com
X-WR-CALDESC:Events for Courtship Vs. Dating with Rickey E. Macklin
REFRESH-INTERVAL;VALUE=DURATION:PT1H
X-Robots-Tag:noindex
X-PUBLISHED-TTL:PT1H
BEGIN:VTIMEZONE
TZID:America/New_York
BEGIN:DAYLIGHT
TZOFFSETFROM:-0500
TZOFFSETTO:-0400
TZNAME:EDT
DTSTART:20150308T070000
END:DAYLIGHT
BEGIN:STANDARD
TZOFFSETFROM:-0400
TZOFFSETTO:-0500
TZNAME:EST
DTSTART:20151101T060000
END:STANDARD
BEGIN:DAYLIGHT
TZOFFSETFROM:-0500
TZOFFSETTO:-0400
TZNAME:EDT
DTSTART:20160313T070000
END:DAYLIGHT
BEGIN:STANDARD
TZOFFSETFROM:-0400
TZOFFSETTO:-0500
TZNAME:EST
DTSTART:20161106T060000
END:STANDARD
BEGIN:DAYLIGHT
TZOFFSETFROM:-0500
TZOFFSETTO:-0400
TZNAME:EDT
DTSTART:20170312T070000
END:DAYLIGHT
BEGIN:STANDARD
TZOFFSETFROM:-0400
TZOFFSETTO:-0500
TZNAME:EST
DTSTART:20171105T060000
END:STANDARD
END:VTIMEZONE
BEGIN:VEVENT
DTSTART;TZID=America/New_York:20160617T160000
DTEND;TZID=America/New_York:20160618T130000
DTSTAMP:20260421T064225
CREATED:20160124T005541Z
LAST-MODIFIED:20160316T205926Z
UID:2261-1466179200-1466254800@courtshipvsdating.com
SUMMARY:B2B Relationship Event-June-17
DESCRIPTION:B2B Relationship Event\nBack to the Basics\nCourtship vs Dating is excited to announce its relationship conference entitled “Back to the Basics” B2B\, which will take place on Friday\, June 17- Saturday\, June 18\, 2016 in Camden\, SC. \nThis conference was created to inspire singles to attain a greater level of self-identity as well as lead them towards happy and healthy relationships. In addition\, Courtship Vs Dating has developed specially designed workshops for teens in grades 8th through 12th to promote self-worth\, assist in understanding their identity as well as promote purity. \nOn Friday\, June 17th (4pm – 8pm) Courtship vs Dating will be sponsoring a B2B Family Cookout at Scott’s Park – 242 Battleship Rd. This will be a time to fellowship with other youth and singles\, enjoy great food and participate in games and other activities. \nSaturday\, June 18th (8:30am – 12:30pm) B2B will be at The Camden Recreational Center – 1042 W. Dekalb St.  It will be a morning filled breakout sessions for the youth and singles\, and panels for both groups as well. At the workshops\, B2B will include a continental breakfast and lunch. \nThe entire event will be FREE to the general public\, but you must register. \nTeens – 8th thru 12th Graders\nSingles – 18 & Up
URL:https://courtshipvsdating.com/event/b2b-relationship-event-feb-16/
LOCATION:Camden Recreational Center\, 1042 W Dekalb St.\, Camden\, SC\, 29020\, United States
CATEGORIES:B2B
ATTACH;FMTTYPE=image/jpeg:https://courtshipvsdating.com/wp-content/uploads/2016/01/B2B_SC-copy.jpg
END:VEVENT
BEGIN:VEVENT
DTSTART;TZID=America/New_York:20160206T143000
DTEND;TZID=America/New_York:20160206T160000
DTSTAMP:20260421T064225
CREATED:20160124T004134Z
LAST-MODIFIED:20160124T024613Z
UID:2259-1454769000-1454774400@courtshipvsdating.com
SUMMARY:B2B Relationship Event-Feb-6
DESCRIPTION:Back to the Basics\nMale & Female Original Intent\nHistory of Courtship & Dating\nMajor Differences\nSetting Clear Standards\nDeveloping a Sex Plan\nAnd So Much More\n‘Seating Limited’
URL:https://courtshipvsdating.com/event/b2b-relationship-event-feb/
LOCATION:Prince George’s County Library\, 14730 Main Street\, Upper Marlboro\, MD\, 20772\, United States
CATEGORIES:B2B
ATTACH;FMTTYPE=image/jpeg:https://courtshipvsdating.com/wp-content/uploads/2015/03/B2B_Maryland.jpg
END:VEVENT
END:VCALENDAR