BEGIN:VCALENDAR
VERSION:2.0
PRODID:-//Courtship Vs. Dating with Rickey E. Macklin - ECPv6.15.15//NONSGML v1.0//EN
CALSCALE:GREGORIAN
METHOD:PUBLISH
X-ORIGINAL-URL:https://courtshipvsdating.com
X-WR-CALDESC:Events for Courtship Vs. Dating with Rickey E. Macklin
REFRESH-INTERVAL;VALUE=DURATION:PT1H
X-Robots-Tag:noindex
X-PUBLISHED-TTL:PT1H
BEGIN:VTIMEZONE
TZID:America/New_York
BEGIN:DAYLIGHT
TZOFFSETFROM:-0500
TZOFFSETTO:-0400
TZNAME:EDT
DTSTART:20160313T070000
END:DAYLIGHT
BEGIN:STANDARD
TZOFFSETFROM:-0400
TZOFFSETTO:-0500
TZNAME:EST
DTSTART:20161106T060000
END:STANDARD
BEGIN:DAYLIGHT
TZOFFSETFROM:-0500
TZOFFSETTO:-0400
TZNAME:EDT
DTSTART:20170312T070000
END:DAYLIGHT
BEGIN:STANDARD
TZOFFSETFROM:-0400
TZOFFSETTO:-0500
TZNAME:EST
DTSTART:20171105T060000
END:STANDARD
BEGIN:DAYLIGHT
TZOFFSETFROM:-0500
TZOFFSETTO:-0400
TZNAME:EDT
DTSTART:20180311T070000
END:DAYLIGHT
BEGIN:STANDARD
TZOFFSETFROM:-0400
TZOFFSETTO:-0500
TZNAME:EST
DTSTART:20181104T060000
END:STANDARD
BEGIN:DAYLIGHT
TZOFFSETFROM:-0500
TZOFFSETTO:-0400
TZNAME:EDT
DTSTART:20190310T070000
END:DAYLIGHT
BEGIN:STANDARD
TZOFFSETFROM:-0400
TZOFFSETTO:-0500
TZNAME:EST
DTSTART:20191103T060000
END:STANDARD
END:VTIMEZONE
BEGIN:VEVENT
DTSTART;TZID=America/New_York:20180811T160000
DTEND;TZID=America/New_York:20180811T190000
DTSTAMP:20260421T081741
CREATED:20180724T205835Z
LAST-MODIFIED:20180724T205835Z
UID:3026-1534003200-1534014000@courtshipvsdating.com
SUMMARY:Inspiring Moments Book Launch!
DESCRIPTION:
URL:https://courtshipvsdating.com/event/inspiring-moments-book-launch/
LOCATION:Book Event\, DC\, United States
CATEGORIES:Speaking Events
END:VEVENT
BEGIN:VEVENT
DTSTART;TZID=America/New_York:20171209T140000
DTEND;TZID=America/New_York:20171209T153000
DTSTAMP:20260421T081741
CREATED:20171024T234444Z
LAST-MODIFIED:20171024T234444Z
UID:2620-1512828000-1512833400@courtshipvsdating.com
SUMMARY:B2B Relationship Event Dec 9
DESCRIPTION:B2B Relationship Event\nBack to the Basics\nCourtship vs Dating is excited to announce our next “Back to the Basics” B2B relationship event\, which will take place on Saturday\, December 09. \nThis session is designed to inspire singles to a greater level of self-identity as well as lead them towards happy and healthy relationships. \nThe event is FREE\, but you must register. \nHere’s what to look forward to: \nMale & Female Original Intent\nHistory of Courtship & Dating\nMajor Differences\nSetting Clear Standards\nDeveloping a Sex Plan\nAnd So Much More \nSeating Limited’ \nRegistration Link:  Click To Register
URL:https://courtshipvsdating.com/event/b2b-relationship-event-dec-9/
LOCATION:Harmony Hall Regional Center\, 10701 LIVINGSTON ROAD\, FORT WASHINGTON\, MD\, 20744\, United States
CATEGORIES:Speaking Events
ATTACH;FMTTYPE=image/jpeg:https://courtshipvsdating.com/wp-content/uploads/2017/10/B2B_Fort-Washington2017.jpg
ORGANIZER;CN="CourtshipVsDating":MAILTO:info@courtshipvsdating.com
END:VEVENT
BEGIN:VEVENT
DTSTART;TZID=America/New_York:20170225T120000
DTEND;TZID=America/New_York:20170225T140000
DTSTAMP:20260421T081741
CREATED:20170101T162914Z
LAST-MODIFIED:20170208T030012Z
UID:2459-1488024000-1488031200@courtshipvsdating.com
SUMMARY:Single Sisters Empowered 2 Live
DESCRIPTION:Single Sisters Empowered to L.I.V.E.!\nEmpowered Women Ministries Inc.\nPresents:\nCourtshipVsDating\nChristian Relationship Coach – Rickey E. Macklin\nSingle Sisters Empowered to  L.I.V.E.!TM Single Sisters Empowered to L.I.V.E.!™  is a program that promotes self-awareness among single women who have experienced cycles of unhealthy relationships. \nThis program emphasizes and instills in women the value of marriage and family as well as the value of\nenjoying enjoying their “single-ness”. We want them to embrace the concept of loving themselves first\,\ninvesting in their purpose\, venturing out into places and concepts they’ve never dared to go\, and\nexcelling to a dimension in their lives they only saw in their dreams! \nThrough workshops & retreats\, this movement works to enhance women in the areas of: \nSingle-parenting\nDating/relationships\nMarriage preparation\nFinancial management\nGoal-setting\nEsteem building/positive self-image\nFostering positive relationships\, and\nLadies & business etiquette. \nDonation:  $15 
URL:https://courtshipvsdating.com/event/single-sisters-empowered-2-live/
LOCATION:Women’s Fellowship\, 101 E 4th St.\, Laurel\, DE\, 19956\, United States
CATEGORIES:Speaking Events
ATTACH;FMTTYPE=image/jpeg:https://courtshipvsdating.com/wp-content/uploads/2017/01/Deleware.jpg
END:VEVENT
END:VCALENDAR